BEGIN:VCALENDAR
VERSION:2.0
PRODID:-//EASTFORD ELEMENTARY SCHOOL - ECPv6.15.20//NONSGML v1.0//EN
CALSCALE:GREGORIAN
METHOD:PUBLISH
X-WR-CALNAME:EASTFORD ELEMENTARY SCHOOL
X-ORIGINAL-URL:https://www.eastfordct.org
X-WR-CALDESC:Events for EASTFORD ELEMENTARY SCHOOL
REFRESH-INTERVAL;VALUE=DURATION:PT1H
X-Robots-Tag:noindex
X-PUBLISHED-TTL:PT1H
BEGIN:VTIMEZONE
TZID:America/New_York
BEGIN:DAYLIGHT
TZOFFSETFROM:-0500
TZOFFSETTO:-0400
TZNAME:EDT
DTSTART:20250309T070000
END:DAYLIGHT
BEGIN:STANDARD
TZOFFSETFROM:-0400
TZOFFSETTO:-0500
TZNAME:EST
DTSTART:20251102T060000
END:STANDARD
BEGIN:DAYLIGHT
TZOFFSETFROM:-0500
TZOFFSETTO:-0400
TZNAME:EDT
DTSTART:20260308T070000
END:DAYLIGHT
BEGIN:STANDARD
TZOFFSETFROM:-0400
TZOFFSETTO:-0500
TZNAME:EST
DTSTART:20261101T060000
END:STANDARD
BEGIN:DAYLIGHT
TZOFFSETFROM:-0500
TZOFFSETTO:-0400
TZNAME:EDT
DTSTART:20270314T070000
END:DAYLIGHT
BEGIN:STANDARD
TZOFFSETFROM:-0400
TZOFFSETTO:-0500
TZNAME:EST
DTSTART:20271107T060000
END:STANDARD
END:VTIMEZONE
BEGIN:VEVENT
DTSTART;TZID=America/New_York:20260410T081000
DTEND;TZID=America/New_York:20260410T093000
DTSTAMP:20260421T031032
CREATED:20260326T130834Z
LAST-MODIFIED:20260326T130834Z
UID:7838-1775808600-1775813400@www.eastfordct.org
SUMMARY:Superintendent Office Hours
DESCRIPTION:
URL:https://www.eastfordct.org/event/superintendent-office-hours-5/
CATEGORIES:Calendar
END:VEVENT
BEGIN:VEVENT
DTSTART;TZID=America/New_York:20260410T154500
DTEND;TZID=America/New_York:20260410T163000
DTSTAMP:20260421T031032
CREATED:20260326T130927Z
LAST-MODIFIED:20260326T130927Z
UID:7840-1775835900-1775838600@www.eastfordct.org
SUMMARY:Superintendent Office Hours
DESCRIPTION:
URL:https://www.eastfordct.org/event/superintendent-office-hours-6/
CATEGORIES:Calendar
END:VEVENT
END:VCALENDAR