BEGIN:VCALENDAR
VERSION:2.0
PRODID:-//EASTFORD ELEMENTARY SCHOOL - ECPv6.15.20//NONSGML v1.0//EN
CALSCALE:GREGORIAN
METHOD:PUBLISH
X-WR-CALNAME:EASTFORD ELEMENTARY SCHOOL
X-ORIGINAL-URL:https://www.eastfordct.org
X-WR-CALDESC:Events for EASTFORD ELEMENTARY SCHOOL
REFRESH-INTERVAL;VALUE=DURATION:PT1H
X-Robots-Tag:noindex
X-PUBLISHED-TTL:PT1H
BEGIN:VTIMEZONE
TZID:America/New_York
BEGIN:DAYLIGHT
TZOFFSETFROM:-0500
TZOFFSETTO:-0400
TZNAME:EDT
DTSTART:20250309T070000
END:DAYLIGHT
BEGIN:STANDARD
TZOFFSETFROM:-0400
TZOFFSETTO:-0500
TZNAME:EST
DTSTART:20251102T060000
END:STANDARD
BEGIN:DAYLIGHT
TZOFFSETFROM:-0500
TZOFFSETTO:-0400
TZNAME:EDT
DTSTART:20260308T070000
END:DAYLIGHT
BEGIN:STANDARD
TZOFFSETFROM:-0400
TZOFFSETTO:-0500
TZNAME:EST
DTSTART:20261101T060000
END:STANDARD
BEGIN:DAYLIGHT
TZOFFSETFROM:-0500
TZOFFSETTO:-0400
TZNAME:EDT
DTSTART:20270314T070000
END:DAYLIGHT
BEGIN:STANDARD
TZOFFSETFROM:-0400
TZOFFSETTO:-0500
TZNAME:EST
DTSTART:20271107T060000
END:STANDARD
END:VTIMEZONE
BEGIN:VEVENT
DTSTART;TZID=America/New_York:20260421T104500
DTEND;TZID=America/New_York:20260421T114500
DTSTAMP:20260421T121717
CREATED:20250916T153752Z
LAST-MODIFIED:20250916T153752Z
UID:7012-1776768300-1776771900@www.eastfordct.org
SUMMARY:Eastford Public Library Grade PK
DESCRIPTION:
URL:https://www.eastfordct.org/event/eastford-public-library-grade-pk-5/
CATEGORIES:Calendar
END:VEVENT
BEGIN:VEVENT
DTSTART;TZID=America/New_York:20260421T141500
DTEND;TZID=America/New_York:20260421T151000
DTSTAMP:20260421T121717
CREATED:20250916T153714Z
LAST-MODIFIED:20250916T153714Z
UID:7010-1776780900-1776784200@www.eastfordct.org
SUMMARY:Eastford Public Library Grade 4
DESCRIPTION:
URL:https://www.eastfordct.org/event/eastford-public-library-grade-4-7/
CATEGORIES:Calendar
END:VEVENT
BEGIN:VEVENT
DTSTART;TZID=America/New_York:20260422T100000
DTEND;TZID=America/New_York:20260422T104000
DTSTAMP:20260421T121717
CREATED:20260123T183821Z
LAST-MODIFIED:20260123T183821Z
UID:7504-1776852000-1776854400@www.eastfordct.org
SUMMARY:Grade 6 to Eastford Public Library
DESCRIPTION:
URL:https://www.eastfordct.org/event/grade-6-to-eastford-public-library-4/
CATEGORIES:Calendar
END:VEVENT
BEGIN:VEVENT
DTSTART;TZID=America/New_York:20260422T100000
DTEND;TZID=America/New_York:20260422T110000
DTSTAMP:20260421T121717
CREATED:20250916T153839Z
LAST-MODIFIED:20250916T153839Z
UID:7014-1776852000-1776855600@www.eastfordct.org
SUMMARY:Eastford Public Library Grade 3
DESCRIPTION:
URL:https://www.eastfordct.org/event/eastford-public-library-grade-3-6/
CATEGORIES:Calendar
END:VEVENT
BEGIN:VEVENT
DTSTART;TZID=America/New_York:20260423T102000
DTEND;TZID=America/New_York:20260423T122000
DTSTAMP:20260421T121717
CREATED:20260319T165405Z
LAST-MODIFIED:20260319T165405Z
UID:7748-1776939600-1776946800@www.eastfordct.org
SUMMARY:Field Trip to Loos Grades K-4
DESCRIPTION:
URL:https://www.eastfordct.org/event/field-trip-to-loos-grades-k-4/
CATEGORIES:Calendar
END:VEVENT
BEGIN:VEVENT
DTSTART;TZID=America/New_York:20260424T081000
DTEND;TZID=America/New_York:20260424T093000
DTSTAMP:20260421T121717
CREATED:20260326T131636Z
LAST-MODIFIED:20260326T131636Z
UID:7842-1777018200-1777023000@www.eastfordct.org
SUMMARY:Superintendent Office Hours
DESCRIPTION:
URL:https://www.eastfordct.org/event/superintendent-office-hours-7/
CATEGORIES:Calendar
END:VEVENT
BEGIN:VEVENT
DTSTART;TZID=America/New_York:20260424T154500
DTEND;TZID=America/New_York:20260424T163000
DTSTAMP:20260421T121717
CREATED:20260326T131709Z
LAST-MODIFIED:20260326T131709Z
UID:7844-1777045500-1777048200@www.eastfordct.org
SUMMARY:Superintendent Office Hours
DESCRIPTION:
URL:https://www.eastfordct.org/event/superintendent-office-hours-8/
CATEGORIES:Calendar
END:VEVENT
BEGIN:VEVENT
DTSTART;TZID=America/New_York:20260427T081000
DTEND;TZID=America/New_York:20260427T093000
DTSTAMP:20260421T121717
CREATED:20260326T131742Z
LAST-MODIFIED:20260326T131742Z
UID:7846-1777277400-1777282200@www.eastfordct.org
SUMMARY:Superintendent Office Hours
DESCRIPTION:
URL:https://www.eastfordct.org/event/superintendent-office-hours-9/
CATEGORIES:Calendar
END:VEVENT
BEGIN:VEVENT
DTSTART;TZID=America/New_York:20260427T154500
DTEND;TZID=America/New_York:20260427T163000
DTSTAMP:20260421T121717
CREATED:20260326T131818Z
LAST-MODIFIED:20260326T131818Z
UID:7848-1777304700-1777307400@www.eastfordct.org
SUMMARY:Superintendent Office Hours
DESCRIPTION:
URL:https://www.eastfordct.org/event/superintendent-office-hours-10/
CATEGORIES:Calendar
END:VEVENT
BEGIN:VEVENT
DTSTART;TZID=America/New_York:20260429T142000
DTEND;TZID=America/New_York:20260429T145000
DTSTAMP:20260421T121717
CREATED:20260319T165626Z
LAST-MODIFIED:20260319T165626Z
UID:7752-1777472400-1777474200@www.eastfordct.org
SUMMARY:Kindergarten Transition Pre K Playground
DESCRIPTION:
URL:https://www.eastfordct.org/event/kindergarten-transition-pre-k-playground/
CATEGORIES:Calendar
END:VEVENT
BEGIN:VEVENT
DTSTART;TZID=America/New_York:20260505T120500
DTEND;TZID=America/New_York:20260505T125500
DTSTAMP:20260421T121717
CREATED:20260123T183924Z
LAST-MODIFIED:20260123T183924Z
UID:7506-1777982700-1777985700@www.eastfordct.org
SUMMARY:Grade 7B to Eastford Public Library
DESCRIPTION:
URL:https://www.eastfordct.org/event/grade-7b-to-eastford-public-library-5/
CATEGORIES:Calendar
END:VEVENT
BEGIN:VEVENT
DTSTART;TZID=America/New_York:20260507T094000
DTEND;TZID=America/New_York:20260507T101000
DTSTAMP:20260421T121717
CREATED:20260319T170759Z
LAST-MODIFIED:20260319T170759Z
UID:7756-1778146800-1778148600@www.eastfordct.org
SUMMARY:Kindergarten Transition Visit
DESCRIPTION:
URL:https://www.eastfordct.org/event/kindergarten-transition-visit/
CATEGORIES:Calendar
END:VEVENT
BEGIN:VEVENT
DTSTART;TZID=America/New_York:20260507T141500
DTEND;TZID=America/New_York:20260507T150000
DTSTAMP:20260421T121717
CREATED:20260123T184015Z
LAST-MODIFIED:20260123T184015Z
UID:7508-1778163300-1778166000@www.eastfordct.org
SUMMARY:Grade 2 to Eastford Public Library
DESCRIPTION:
URL:https://www.eastfordct.org/event/grade-2-to-eastford-public-library-3/
CATEGORIES:Calendar
END:VEVENT
BEGIN:VEVENT
DTSTART;VALUE=DATE:20260508
DTEND;VALUE=DATE:20260509
DTSTAMP:20260421T121717
CREATED:20250724T192127Z
LAST-MODIFIED:20260319T170631Z
UID:6624-1778198400-1778284799@www.eastfordct.org
SUMMARY:New Progress Notes Date
DESCRIPTION:
URL:https://www.eastfordct.org/event/progress-notes-8/
CATEGORIES:Calendar
END:VEVENT
BEGIN:VEVENT
DTSTART;TZID=America/New_York:20260508T081000
DTEND;TZID=America/New_York:20260508T093000
DTSTAMP:20260421T121717
CREATED:20260420T174506Z
LAST-MODIFIED:20260420T174506Z
UID:7928-1778227800-1778232600@www.eastfordct.org
SUMMARY:Superintendent Office Hours
DESCRIPTION:
URL:https://www.eastfordct.org/event/superintendent-office-hours-11/
CATEGORIES:Calendar
END:VEVENT
BEGIN:VEVENT
DTSTART;TZID=America/New_York:20260508T154500
DTEND;TZID=America/New_York:20260508T163000
DTSTAMP:20260421T121717
CREATED:20260420T174600Z
LAST-MODIFIED:20260420T174600Z
UID:7930-1778255100-1778257800@www.eastfordct.org
SUMMARY:Superintendent Office Hours
DESCRIPTION:
URL:https://www.eastfordct.org/event/superintendent-office-hours-12/
CATEGORIES:Calendar
END:VEVENT
BEGIN:VEVENT
DTSTART;TZID=America/New_York:20260508T180000
DTEND;TZID=America/New_York:20260508T200000
DTSTAMP:20260421T121717
CREATED:20260123T184541Z
LAST-MODIFIED:20260123T184541Z
UID:7512-1778263200-1778270400@www.eastfordct.org
SUMMARY:Middle School Dance
DESCRIPTION:
URL:https://www.eastfordct.org/event/middle-school-dance-4/
CATEGORIES:Calendar
END:VEVENT
BEGIN:VEVENT
DTSTART;TZID=America/New_York:20260512T081000
DTEND;TZID=America/New_York:20260512T093000
DTSTAMP:20260421T121717
CREATED:20260420T174653Z
LAST-MODIFIED:20260420T174653Z
UID:7932-1778573400-1778578200@www.eastfordct.org
SUMMARY:Superintendent Office Hours
DESCRIPTION:
URL:https://www.eastfordct.org/event/superintendent-office-hours-13/
CATEGORIES:Calendar
END:VEVENT
BEGIN:VEVENT
DTSTART;TZID=America/New_York:20260512T103000
DTEND;TZID=America/New_York:20260512T113000
DTSTAMP:20260421T121717
CREATED:20250916T153924Z
LAST-MODIFIED:20250916T153924Z
UID:7016-1778581800-1778585400@www.eastfordct.org
SUMMARY:Eastford Public Library Grade K
DESCRIPTION:
URL:https://www.eastfordct.org/event/eastford-public-library-grade-k-5/
CATEGORIES:Calendar
END:VEVENT
BEGIN:VEVENT
DTSTART;TZID=America/New_York:20260512T153000
DTEND;TZID=America/New_York:20260512T163000
DTSTAMP:20260421T121717
CREATED:20260319T170945Z
LAST-MODIFIED:20260319T170945Z
UID:7758-1778599800-1778603400@www.eastfordct.org
SUMMARY:Pre School & Kindergarten Nature Hike
DESCRIPTION:
URL:https://www.eastfordct.org/event/pre-school-kindergarten-nature-hike/
CATEGORIES:Calendar
END:VEVENT
BEGIN:VEVENT
DTSTART;TZID=America/New_York:20260512T154500
DTEND;TZID=America/New_York:20260512T163000
DTSTAMP:20260421T121717
CREATED:20260420T174727Z
LAST-MODIFIED:20260420T174727Z
UID:7934-1778600700-1778603400@www.eastfordct.org
SUMMARY:Superintendent Office Hours
DESCRIPTION:
URL:https://www.eastfordct.org/event/superintendent-office-hours-14/
CATEGORIES:Calendar
END:VEVENT
BEGIN:VEVENT
DTSTART;TZID=America/New_York:20260513T140000
DTEND;TZID=America/New_York:20260513T144500
DTSTAMP:20260421T121717
CREATED:20250916T154640Z
LAST-MODIFIED:20250916T154640Z
UID:7018-1778680800-1778683500@www.eastfordct.org
SUMMARY:Eastford Public Library Grade 1
DESCRIPTION:
URL:https://www.eastfordct.org/event/eastford-public-library-grade-1-7/
CATEGORIES:Calendar
END:VEVENT
BEGIN:VEVENT
DTSTART;TZID=America/New_York:20260514T131500
DTEND;TZID=America/New_York:20260514T140000
DTSTAMP:20260421T121717
CREATED:20260123T184316Z
LAST-MODIFIED:20260123T184316Z
UID:7510-1778764500-1778767200@www.eastfordct.org
SUMMARY:Grade 7A/8 to Eastford Public Library
DESCRIPTION:
URL:https://www.eastfordct.org/event/grade-7a-8-to-eastford-public-library-3/
CATEGORIES:Calendar
END:VEVENT
BEGIN:VEVENT
DTSTART;TZID=America/New_York:20260514T180000
DTEND;TZID=America/New_York:20260514T190000
DTSTAMP:20260421T121717
CREATED:20251114T142233Z
LAST-MODIFIED:20251114T142233Z
UID:7319-1778781600-1778785200@www.eastfordct.org
SUMMARY:BOE Meeting
DESCRIPTION:Board of Education Meeting
URL:https://www.eastfordct.org/event/boe-meeting-7/
CATEGORIES:Calendar
END:VEVENT
BEGIN:VEVENT
DTSTART;TZID=America/New_York:20260515T123000
DTEND;TZID=America/New_York:20260515T154500
DTSTAMP:20260421T121717
CREATED:20250724T190552Z
LAST-MODIFIED:20250724T191152Z
UID:6615-1778848200-1778859900@www.eastfordct.org
SUMMARY:Early Dismissal 12 :30pm\, Prof Development Afternoon
DESCRIPTION:
URL:https://www.eastfordct.org/event/early-dismissal-12-30pm-prof-development-afternoon/
CATEGORIES:Calendar
END:VEVENT
BEGIN:VEVENT
DTSTART;TZID=America/New_York:20260518T132000
DTEND;TZID=America/New_York:20260518T135000
DTSTAMP:20260421T121717
CREATED:20260319T171053Z
LAST-MODIFIED:20260319T171053Z
UID:7760-1779110400-1779112200@www.eastfordct.org
SUMMARY:Kindergarten Transition Visit
DESCRIPTION:
URL:https://www.eastfordct.org/event/kindergarten-transition-visit-2/
CATEGORIES:Calendar
END:VEVENT
BEGIN:VEVENT
DTSTART;TZID=America/New_York:20260519T050000
DTEND;TZID=America/New_York:20260522T230000
DTSTAMP:20260421T121717
CREATED:20260123T185707Z
LAST-MODIFIED:20260123T185707Z
UID:7522-1779166800-1779490800@www.eastfordct.org
SUMMARY:Washington DC Trip Grade 7 & 8
DESCRIPTION:
URL:https://www.eastfordct.org/event/washington-dc-trip-grade-7-8/
CATEGORIES:Calendar
END:VEVENT
BEGIN:VEVENT
DTSTART;TZID=America/New_York:20260519T104500
DTEND;TZID=America/New_York:20260519T114500
DTSTAMP:20260421T121717
CREATED:20250916T154847Z
LAST-MODIFIED:20250916T154847Z
UID:7022-1779187500-1779191100@www.eastfordct.org
SUMMARY:Eastford Public Library Grade PK
DESCRIPTION:
URL:https://www.eastfordct.org/event/eastford-public-library-grade-pk-6/
CATEGORIES:Calendar
END:VEVENT
BEGIN:VEVENT
DTSTART;TZID=America/New_York:20260519T141500
DTEND;TZID=America/New_York:20260519T151000
DTSTAMP:20260421T121717
CREATED:20250916T154808Z
LAST-MODIFIED:20250916T154808Z
UID:7020-1779200100-1779203400@www.eastfordct.org
SUMMARY:Eastford Public Library Grade 4
DESCRIPTION:
URL:https://www.eastfordct.org/event/eastford-public-library-grade-4-8/
CATEGORIES:Calendar
END:VEVENT
BEGIN:VEVENT
DTSTART;TZID=America/New_York:20260520T100000
DTEND;TZID=America/New_York:20260520T110000
DTSTAMP:20260421T121717
CREATED:20250916T154958Z
LAST-MODIFIED:20250916T154958Z
UID:7024-1779271200-1779274800@www.eastfordct.org
SUMMARY:Eastford Public Library Grade 3
DESCRIPTION:
URL:https://www.eastfordct.org/event/eastford-public-library-grade-3-7/
CATEGORIES:Calendar
END:VEVENT
END:VCALENDAR