BEGIN:VCALENDAR
VERSION:2.0
PRODID:-//EASTFORD ELEMENTARY SCHOOL - ECPv6.15.20//NONSGML v1.0//EN
CALSCALE:GREGORIAN
METHOD:PUBLISH
X-WR-CALNAME:EASTFORD ELEMENTARY SCHOOL
X-ORIGINAL-URL:https://www.eastfordct.org
X-WR-CALDESC:Events for EASTFORD ELEMENTARY SCHOOL
REFRESH-INTERVAL;VALUE=DURATION:PT1H
X-Robots-Tag:noindex
X-PUBLISHED-TTL:PT1H
BEGIN:VTIMEZONE
TZID:America/New_York
BEGIN:DAYLIGHT
TZOFFSETFROM:-0500
TZOFFSETTO:-0400
TZNAME:EDT
DTSTART:20250309T070000
END:DAYLIGHT
BEGIN:STANDARD
TZOFFSETFROM:-0400
TZOFFSETTO:-0500
TZNAME:EST
DTSTART:20251102T060000
END:STANDARD
BEGIN:DAYLIGHT
TZOFFSETFROM:-0500
TZOFFSETTO:-0400
TZNAME:EDT
DTSTART:20260308T070000
END:DAYLIGHT
BEGIN:STANDARD
TZOFFSETFROM:-0400
TZOFFSETTO:-0500
TZNAME:EST
DTSTART:20261101T060000
END:STANDARD
BEGIN:DAYLIGHT
TZOFFSETFROM:-0500
TZOFFSETTO:-0400
TZNAME:EDT
DTSTART:20270314T070000
END:DAYLIGHT
BEGIN:STANDARD
TZOFFSETFROM:-0400
TZOFFSETTO:-0500
TZNAME:EST
DTSTART:20271107T060000
END:STANDARD
END:VTIMEZONE
BEGIN:VEVENT
DTSTART;TZID=America/New_York:20260526T154500
DTEND;TZID=America/New_York:20260526T163000
DTSTAMP:20260421T191833
CREATED:20260420T175036Z
LAST-MODIFIED:20260420T175036Z
UID:7942-1779810300-1779813000@www.eastfordct.org
SUMMARY:Superintendent Office Hours
DESCRIPTION:
URL:https://www.eastfordct.org/event/superintendent-office-hours-18/
CATEGORIES:Calendar
END:VEVENT
BEGIN:VEVENT
DTSTART;TZID=America/New_York:20260527T100000
DTEND;TZID=America/New_York:20260527T104000
DTSTAMP:20260421T191833
CREATED:20260123T185130Z
LAST-MODIFIED:20260123T185130Z
UID:7518-1779876000-1779878400@www.eastfordct.org
SUMMARY:Grade 6 to Eastford Public Library
DESCRIPTION:
URL:https://www.eastfordct.org/event/grade-6-to-eastford-public-library-5/
CATEGORIES:Calendar
END:VEVENT
BEGIN:VEVENT
DTSTART;TZID=America/New_York:20260528T180000
DTEND;TZID=America/New_York:20260528T184500
DTSTAMP:20260421T191833
CREATED:20260319T171545Z
LAST-MODIFIED:20260319T171545Z
UID:7762-1779991200-1779993900@www.eastfordct.org
SUMMARY:Pres-school and Kindergarten Orientation
DESCRIPTION:
URL:https://www.eastfordct.org/event/pres-school-and-kindergarten-orientation/
CATEGORIES:Calendar
END:VEVENT
BEGIN:VEVENT
DTSTART;VALUE=DATE:20260606
DTEND;VALUE=DATE:20260607
DTSTAMP:20260421T191833
CREATED:20260123T185348Z
LAST-MODIFIED:20260330T135946Z
UID:7520-1780704000-1780790399@www.eastfordct.org
SUMMARY:Experience Eastford Day
DESCRIPTION:
URL:https://www.eastfordct.org/event/experience-eastford-day/
CATEGORIES:Calendar
END:VEVENT
BEGIN:VEVENT
DTSTART;TZID=America/New_York:20260609T141500
DTEND;TZID=America/New_York:20260609T151000
DTSTAMP:20260421T191833
CREATED:20250916T155537Z
LAST-MODIFIED:20250916T155537Z
UID:7026-1781014500-1781017800@www.eastfordct.org
SUMMARY:Eastford Public Library Grade 4
DESCRIPTION:
URL:https://www.eastfordct.org/event/eastford-public-library-grade-4-9/
CATEGORIES:Calendar
END:VEVENT
BEGIN:VEVENT
DTSTART;TZID=America/New_York:20260610T100000
DTEND;TZID=America/New_York:20260610T110000
DTSTAMP:20260421T191833
CREATED:20250916T155649Z
LAST-MODIFIED:20251024T143954Z
UID:7030-1781085600-1781089200@www.eastfordct.org
SUMMARY:Eastford Public Library Grade 3
DESCRIPTION:
URL:https://www.eastfordct.org/event/eastford-public-library-grade/
CATEGORIES:Calendar
END:VEVENT
BEGIN:VEVENT
DTSTART;TZID=America/New_York:20260610T140000
DTEND;TZID=America/New_York:20260610T144500
DTSTAMP:20260421T191833
CREATED:20250916T155619Z
LAST-MODIFIED:20250916T155619Z
UID:7028-1781100000-1781102700@www.eastfordct.org
SUMMARY:Eastford Public Library Grade 1
DESCRIPTION:
URL:https://www.eastfordct.org/event/eastford-public-library-grade-1-8/
CATEGORIES:Calendar
END:VEVENT
BEGIN:VEVENT
DTSTART;TZID=America/New_York:20260611T180000
DTEND;TZID=America/New_York:20260611T190000
DTSTAMP:20260421T191833
CREATED:20251114T142318Z
LAST-MODIFIED:20251114T142318Z
UID:7321-1781200800-1781204400@www.eastfordct.org
SUMMARY:BOE Meeting
DESCRIPTION:Board of Education Meeting
URL:https://www.eastfordct.org/event/boe-meeting-8/
CATEGORIES:Calendar
END:VEVENT
BEGIN:VEVENT
DTSTART;VALUE=DATE:20260619
DTEND;VALUE=DATE:20260620
DTSTAMP:20260421T191833
CREATED:20240709T180440Z
LAST-MODIFIED:20260319T171802Z
UID:5397-1781827200-1781913599@www.eastfordct.org
SUMMARY:Projected Last Day of School - Report Cards - Early dismissal 12:30pm
DESCRIPTION:
URL:https://www.eastfordct.org/event/report-cards-6/
CATEGORIES:Calendar
END:VEVENT
BEGIN:VEVENT
DTSTART;TZID=America/New_York:20260820T180000
DTEND;TZID=America/New_York:20260820T190000
DTSTAMP:20260421T191833
CREATED:20251114T143021Z
LAST-MODIFIED:20251114T143021Z
UID:7329-1787248800-1787252400@www.eastfordct.org
SUMMARY:BOE Meeting
DESCRIPTION:Board of Education Meeting
URL:https://www.eastfordct.org/event/boe-meeting-12/
CATEGORIES:Calendar
END:VEVENT
BEGIN:VEVENT
DTSTART;TZID=America/New_York:20260910T180000
DTEND;TZID=America/New_York:20260910T190000
DTSTAMP:20260421T191833
CREATED:20251114T143107Z
LAST-MODIFIED:20251114T143107Z
UID:7331-1789063200-1789066800@www.eastfordct.org
SUMMARY:BOE Meeting
DESCRIPTION:Board of Education Meeting
URL:https://www.eastfordct.org/event/boe-meeting-13/
CATEGORIES:Calendar
END:VEVENT
BEGIN:VEVENT
DTSTART;TZID=America/New_York:20261008T180000
DTEND;TZID=America/New_York:20261008T190000
DTSTAMP:20260421T191833
CREATED:20251114T143155Z
LAST-MODIFIED:20251114T143155Z
UID:7333-1791482400-1791486000@www.eastfordct.org
SUMMARY:BOE Meeting
DESCRIPTION:Board of Education Meeting
URL:https://www.eastfordct.org/event/boe-meeting-14/
CATEGORIES:Calendar
END:VEVENT
BEGIN:VEVENT
DTSTART;TZID=America/New_York:20261112T180000
DTEND;TZID=America/New_York:20261112T190000
DTSTAMP:20260421T191833
CREATED:20251114T143244Z
LAST-MODIFIED:20251114T143244Z
UID:7335-1794506400-1794510000@www.eastfordct.org
SUMMARY:BOE Meeting
DESCRIPTION:Board of Education Meeting
URL:https://www.eastfordct.org/event/boe-meeting-15/
CATEGORIES:Calendar
END:VEVENT
BEGIN:VEVENT
DTSTART;TZID=America/New_York:20261210T180000
DTEND;TZID=America/New_York:20261210T190000
DTSTAMP:20260421T191833
CREATED:20251114T143334Z
LAST-MODIFIED:20251114T143334Z
UID:7337-1796925600-1796929200@www.eastfordct.org
SUMMARY:BOE Meeting
DESCRIPTION:Board of Education Meeting
URL:https://www.eastfordct.org/event/boe-meeting-16/
CATEGORIES:Calendar
END:VEVENT
END:VCALENDAR